BEGIN:VCALENDAR
VERSION:2.0
METHOD:PUBLISH
X-WR-CALNAME:InterRidge :: International Cooperation in Ridge-Crest Studies |  4月 03 2011- 4月 03 2011
PRODID:-//strange bird labs//Drupal iCal API//EN
BEGIN:VEVENT
DTSTAMP;VALUE=DATE-TIME:20260320T112119Z
DTSTART;VALUE=DATE-TIME:20110403T000000Z
DTEND;VALUE=DATE-TIME:20110404T170000Z
UID:http://194.254.225.67/ja/node/6276
URL;VALUE=URI:http://194.254.225.67/ja/node/6276
SUMMARY:Workshop - Climate Change and Ocean Carbon - Field Observation\, Remote Sensing and Modeling\, Xiamen University\, China
DESCRIPTION:<p>The joint workshop of OCCOS and CHOICE-C will focus on climate change and ocean carbon from field observation\, remote sensing and modeling.</p>
 <p>Register on line\: <a href=\\"http\://mel.xmu.edu.cn/conference2011/applicationform.asp\\" title=\\"http\://mel.xmu.edu.cn/conference2011/applicationform.asp\\">http\://mel.xmu.edu.cn/conference2011/applicationform.asp</a></p>
 <p><a href=\\"http\://www.interridge.org/files/interridge/Xiamen_OCCOS&amp\;CHOICE-C.pdf\\">Further details</a></p>
 
END:VEVENT
END:VCALENDAR
